BEGIN:VCALENDAR
VERSION:2.0
PRODID:eventora.com
BEGIN:VEVENT
UID:36142ae9-15da-467c-813d-b87068266dd5
DTSTAMP:20260421T073443Z
STATUS:CONFIRMED
DTSTART;TZID=GTB Standard Time:20250221T060000Z
DTEND;TZID=GTB Standard Time:20250327T150000Z
SUMMARY:MAC 2 | TOTAL HIP-TOTAL KNEE-UNI-REVISION | 21-22 ΦΕΒΡΟΥΑΡΙΟΥ 2025
LOCATION:ATT CENTER - Σωρού 35 - 151 25 Μαρούσι - Περιφερειακή ενότητα Βορείο
DESCRIPTION: 
BEGIN:VALARM
DESCRIPTION:MAC 2 | TOTAL HIP-TOTAL KNEE-UNI-REVISION | 21-22 ΦΕΒΡΟΥΑΡΙΟΥ 2025
TRIGGER:-PT15M
ACTION:DISPLAY
END:VALARM
TRANSP:OPAQUE
END:VEVENT
END:VCALENDAR
