BEGIN:VCALENDAR
VERSION:2.0
PRODID:eventora.com
BEGIN:VEVENT
UID:cc87970c-b1da-48f5-ab24-b69938258f86
DTSTAMP:20260421T170555Z
STATUS:CONFIRMED
DTSTART;TZID=GTB Standard Time:20260227T060000Z
DTEND;TZID=GTB Standard Time:20260228T150000Z
SUMMARY:BASIC FOR NURSES INSTRUCTORS COURSE 13-14 JULY 2024
LOCATION:ATT CENTER - Σωρού 35 - 151 25 Μαρούσι - Περιφερειακή ενότητα Βορείο
DESCRIPTION: 
BEGIN:VALARM
DESCRIPTION:BASIC FOR NURSES INSTRUCTORS COURSE 13-14 JULY 2024
TRIGGER:-PT15M
ACTION:DISPLAY
END:VALARM
TRANSP:OPAQUE
END:VEVENT
END:VCALENDAR
